BEGIN:VCALENDAR
VERSION:2.0
PRODID:-//eventon.com NONSGML v1.0//EN
CALSCALE:GREGORIAN
METHOD:PUBLISH
BEGIN:VEVENT
UID:69e4c22589fd6
DTSTAMP:20260419T115309Z
DTSTART:20240530
DTEND:20240531
LOCATION:
SUMMARY:processie weert
DESCRIPTION:processie weert\nhttps://www.sint-petrus.nl/events/processie-we
 ert/
URL:https://www.sint-petrus.nl/events/processie-weert/
END:VEVENT
END:VCALENDAR